BEGIN:VCALENDAR
VERSION:2.0
PRODID:-//Naperville, Geneva, St. Charles, Oswego IL, Wildwood, MO| Dog Training - ECPv6.15.20//NONSGML v1.0//EN
CALSCALE:GREGORIAN
METHOD:PUBLISH
X-WR-CALNAME:Naperville, Geneva, St. Charles, Oswego IL, Wildwood, MO| Dog Training
X-ORIGINAL-URL:https://lifestyledogtraining.com
X-WR-CALDESC:Events for Naperville, Geneva, St. Charles, Oswego IL, Wildwood, MO| Dog Training
REFRESH-INTERVAL;VALUE=DURATION:PT1H
X-Robots-Tag:noindex
X-PUBLISHED-TTL:PT1H
BEGIN:VTIMEZONE
TZID:America/Chicago
BEGIN:DAYLIGHT
TZOFFSETFROM:-0600
TZOFFSETTO:-0500
TZNAME:CDT
DTSTART:20230312T080000
END:DAYLIGHT
BEGIN:STANDARD
TZOFFSETFROM:-0500
TZOFFSETTO:-0600
TZNAME:CST
DTSTART:20231105T070000
END:STANDARD
BEGIN:DAYLIGHT
TZOFFSETFROM:-0600
TZOFFSETTO:-0500
TZNAME:CDT
DTSTART:20240310T080000
END:DAYLIGHT
BEGIN:STANDARD
TZOFFSETFROM:-0500
TZOFFSETTO:-0600
TZNAME:CST
DTSTART:20241103T070000
END:STANDARD
BEGIN:DAYLIGHT
TZOFFSETFROM:-0600
TZOFFSETTO:-0500
TZNAME:CDT
DTSTART:20250309T080000
END:DAYLIGHT
BEGIN:STANDARD
TZOFFSETFROM:-0500
TZOFFSETTO:-0600
TZNAME:CST
DTSTART:20251102T070000
END:STANDARD
END:VTIMEZONE
BEGIN:VEVENT
DTSTART;TZID=America/Chicago:20240108T183000
DTEND;TZID=America/Chicago:20240108T193000
DTSTAMP:20260423T140733
CREATED:20200924T180957Z
LAST-MODIFIED:20231009T230541Z
UID:4207-1704738600-1704742200@lifestyledogtraining.com
SUMMARY:Beginner/Puppy Class\, West Chicago
DESCRIPTION:Paws In Time\, West Chicago \n\nMONDAYS (Note: this class will meet every OTHER week spanning over 12 weeks total)\n\nDATES – Jan. 8 – Mar. 18\n\nTIME – 6:30 – 7:30 pm\n\nMaximum class size is 9.\n\n\nAfter registration\, an email is sent with all the necessary details.\n$250.00Add to cart
URL:https://lifestyledogtraining.com/event/beginner-puppy-class-west-chicago-2/
LOCATION:Paws In Time\, W. Chicago\, 1891 E. Fabyan Pkwy.\, West Chicago\, IL\, 60185\, United States
CATEGORIES:Beginner/Puppy,Paws in Time, West Chicago
END:VEVENT
END:VCALENDAR